BEGIN:VCALENDAR
VERSION:2.0
PRODID:SchoolNow
CALSCALE:GREGORIAN
BEGIN:VEVENT
UID:db9c4fde-2942-11f1-9d7e-0ebf0ec61a4f
DTSTAMP:20260326T183735Z
SUMMARY:Grade 6 Field Day - Rain Date
URL;VALUE=URI:https://www.norwood.k12.ma.us/cms/calendar/8947347/grade-6-fi
 eld-day-rain-date
DTSTART:20260617T130000Z
DTEND:20260617T180000Z
END:VEVENT
END:VCALENDAR
