BEGIN:VCALENDAR
VERSION:2.0
PRODID:SchoolNow
CALSCALE:GREGORIAN
BEGIN:VEVENT
UID:08ff2112-0900-11f1-8680-0affe7921747
DTSTAMP:20260213T171838Z
SUMMARY:Steam Night
URL;VALUE=URI:https://www.norwood.k12.ma.us/oldham/calendar/8855244/steam-n
 ight
DTSTART:20260312T213000Z
DTEND:20260312T230000Z
END:VEVENT
END:VCALENDAR
