BEGIN:VCALENDAR
VERSION:2.0
PRODID:SchoolNow
CALSCALE:GREGORIAN
BEGIN:VEVENT
UID:1915ac8c-18ba-11f1-b49d-0a58a9feac02
DTSTAMP:20260305T173818Z
SUMMARY:PTO Sponsored Scholastic Book Fair
URL;VALUE=URI:https://www.norwood.k12.ma.us/oldham/calendar/8893263/pto-spo
 nsored-scholastic-book-fair
DTSTART:20260317T120000Z
DTEND:20260323T180000Z
ATTACH;FILENAME=2026 book fair.pdf;FMTTYPE=application/pdf:https://campussu
 ite-storage.s3.amazonaws.com/prod/1213978/583ade96-581b-11e7-99ef-124f7feb
 bf4a/3077251/a2a72b3e-18b9-11f1-81f5-0261e2fd6d85/file/2026 book fair.pdf
END:VEVENT
END:VCALENDAR
