BEGIN:VCALENDAR
VERSION:2.0
PRODID:SchoolNow
CALSCALE:GREGORIAN
BEGIN:VEVENT
UID:f35e3458-177a-11e8-8acf-0ad43a77a624
DTSTAMP:20180507T131707Z
SUMMARY:School Committee Meeting
LOCATION:Norwood High School Library
URL;VALUE=URI:https://www.norwood.k12.ma.us/sc/calendar/1715465/school-comm
 ittee-meeting
DTSTART:20180509T233000Z
DTEND:20180510T035900Z
END:VEVENT
END:VCALENDAR
