BEGIN:VCALENDAR
VERSION:2.0
PRODID:SchoolNow
CALSCALE:GREGORIAN
BEGIN:VEVENT
UID:f35ef672-177a-11e8-a409-0ad43a77a624
DTSTAMP:20180521T141232Z
SUMMARY:School Committee Meeting - School Choice Public Hearing
LOCATION:Savage Educational Center
URL;VALUE=URI:https://www.norwood.k12.ma.us/sc/calendar/1715486/school-comm
 ittee-meeting
DTSTART:20180523T230000Z
DTEND:20180524T035900Z
END:VEVENT
END:VCALENDAR
