BEGIN:VCALENDAR
VERSION:2.0
PRODID:SchoolNow
CALSCALE:GREGORIAN
BEGIN:VEVENT
UID:f35fac66-177a-11e8-935d-0ad43a77a624
DTSTAMP:20180619T133428Z
SUMMARY:School Committee Meeting
LOCATION:Savage Educational Center
URL;VALUE=URI:https://www.norwood.k12.ma.us/sc/calendar/1715503/school-comm
 ittee-meeting
DTSTART:20180620T230000Z
DTEND:20180621T035900Z
END:VEVENT
END:VCALENDAR
