BEGIN:VCALENDAR
VERSION:2.0
PRODID:SchoolNow
CALSCALE:GREGORIAN
BEGIN:VEVENT
UID:2b2940d2-431b-11e8-83e2-127d845a1d52
DTSTAMP:20180418T151420Z
SUMMARY:School Committee - MASC Training
LOCATION:Norwood High School Library Conference Room
URL;VALUE=URI:https://www.norwood.k12.ma.us/sc/calendar/1767279/school-comm
 ittee-masc-training
DTSTART:20180509T213000Z
DTEND:20180509T233000Z
END:VEVENT
END:VCALENDAR
