BEGIN:VCALENDAR
VERSION:2.0
PRODID:SchoolNow
CALSCALE:GREGORIAN
BEGIN:VEVENT
UID:5d934c98-431b-11e8-9ac0-0a3f8adcd1de
DTSTAMP:20180515T121415Z
SUMMARY:School Committee Meeting - CANCELLED
LOCATION:Norwood High School Library (prior to Town Meeting)
URL;VALUE=URI:https://www.norwood.k12.ma.us/sc/calendar/1767281/school-comm
 ittee-meeting
DTSTART:20180514T230000Z
DTEND:20180515T035500Z
END:VEVENT
END:VCALENDAR
