BEGIN:VCALENDAR
VERSION:2.0
PRODID:SchoolNow
CALSCALE:GREGORIAN
BEGIN:VEVENT
UID:e406416c-4957-11e8-80e8-12da72c70878
DTSTAMP:20180426T134407Z
SUMMARY:School Committee - Budget Sub Committee Meeting
LOCATION:Savage Educational Center - Superintendent's Conference Room
URL;VALUE=URI:https://www.norwood.k12.ma.us/sc/calendar/1770269/school-comm
 ittee-budget-sub-committee-meeting-clone
DTSTART:20180503T183000Z
DTEND:20180503T200000Z
END:VEVENT
END:VCALENDAR
