BEGIN:VCALENDAR
VERSION:2.0
PRODID:SchoolNow
CALSCALE:GREGORIAN
BEGIN:VEVENT
UID:a44d606e-5839-11e8-a0b9-12fb633879e0
DTSTAMP:20180515T121522Z
SUMMARY:School Committee Meeting
LOCATION:Norwood High School Library
URL;VALUE=URI:https://www.norwood.k12.ma.us/sc/calendar/1777491/school-comm
 ittee-meeting
DTSTART:20180517T230000Z
DTEND:20180518T000000Z
END:VEVENT
END:VCALENDAR
