BEGIN:VCALENDAR
VERSION:2.0
PRODID:SchoolNow
CALSCALE:GREGORIAN
BEGIN:VEVENT
UID:ca12665c-6016-11e8-95b2-1242981465e2
DTSTAMP:20180525T122603Z
SUMMARY:School Committee: School Start-Time Sub Committee
LOCATION:Superintendent's Conference Room\, Savage Educational Center
URL;VALUE=URI:https://www.norwood.k12.ma.us/sc/calendar/1786097/school-comm
 ittee-school-start-time-sub-committee
DTSTART:20180605T153000Z
DTEND:20180605T163000Z
END:VEVENT
END:VCALENDAR
