BEGIN:VCALENDAR
VERSION:2.0
PRODID:SchoolNow
CALSCALE:GREGORIAN
BEGIN:VEVENT
UID:24f6a31c-72ff-11e8-ba48-126aea4204fa
DTSTAMP:20180618T135559Z
SUMMARY:School Committee Budget Subcommittee Meeting
LOCATION:Superintendent's Conference Room - JR Savage Center - 275 Prospect
  St. Norwood\, MA
URL;VALUE=URI:https://www.norwood.k12.ma.us/sc/calendar/1796704/school-comm
 ittee-budget-subcommittee-meeting
DTSTART:20180620T153000Z
DTEND:20180620T163000Z
END:VEVENT
END:VCALENDAR
