BEGIN:VCALENDAR
VERSION:2.0
PRODID:SchoolNow
CALSCALE:GREGORIAN
BEGIN:VEVENT
UID:559472ae-8e77-11e8-8fbc-1297eed519e4
DTSTAMP:20180917T140432Z
SUMMARY:School Committee Meeting
LOCATION:Savage Educational Center
URL;VALUE=URI:https://www.norwood.k12.ma.us/sc/calendar/1810242/school-comm
 ittee-meeting-clone
DTSTART:20180919T230000Z
DTEND:20180920T030000Z
END:VEVENT
END:VCALENDAR
