BEGIN:VCALENDAR
VERSION:2.0
PRODID:SchoolNow
CALSCALE:GREGORIAN
BEGIN:VEVENT
UID:a080131c-8f4f-11e8-87a8-0abe7194e918
DTSTAMP:20181005T162524Z
SUMMARY:School Committee Meeting
LOCATION:Willett Early Childhood Center
URL;VALUE=URI:https://www.norwood.k12.ma.us/sc/calendar/1811971/school-comm
 ittee-meeting-clone-clone
DTSTART:20181010T230000Z
DTEND:20181011T030000Z
END:VEVENT
END:VCALENDAR
