BEGIN:VCALENDAR
VERSION:2.0
PRODID:SchoolNow
CALSCALE:GREGORIAN
BEGIN:VEVENT
UID:27732738-8f50-11e8-89f7-12179e50f482
DTSTAMP:20181019T141604Z
SUMMARY:School Committee Meeting
LOCATION:Savage Educational Center
URL;VALUE=URI:https://www.norwood.k12.ma.us/sc/calendar/1811998/school-comm
 ittee-meeting-clone-clone
DTSTART:20181024T230000Z
DTEND:20181025T030000Z
END:VEVENT
END:VCALENDAR
