BEGIN:VCALENDAR
VERSION:2.0
PRODID:SchoolNow
CALSCALE:GREGORIAN
BEGIN:VEVENT
UID:4ce8cc1a-8f51-11e8-9be9-0abe7194e918
DTSTAMP:20181203T204840Z
SUMMARY:School Committee Meeting
LOCATION:Norwood High School
URL;VALUE=URI:https://www.norwood.k12.ma.us/sc/calendar/1812051/school-comm
 ittee-meeting-clone
DTSTART:20181206T000000Z
DTEND:20181206T040000Z
END:VEVENT
END:VCALENDAR
