BEGIN:VCALENDAR
VERSION:2.0
PRODID:SchoolNow
CALSCALE:GREGORIAN
BEGIN:VEVENT
UID:6a20075c-8f52-11e8-b992-12179e50f482
DTSTAMP:20181217T130902Z
SUMMARY:School Committee Meeting
LOCATION:Savage Educational Center
URL;VALUE=URI:https://www.norwood.k12.ma.us/sc/calendar/1812077/school-comm
 ittee-meeting-clone
DTSTART:20181220T000000Z
DTEND:20181220T040000Z
END:VEVENT
END:VCALENDAR
