BEGIN:VCALENDAR
VERSION:2.0
PRODID:SchoolNow
CALSCALE:GREGORIAN
BEGIN:VEVENT
UID:b73c92d0-8f52-11e8-8b11-12179e50f482
DTSTAMP:20190104T164202Z
SUMMARY:School Committee Meeting
LOCATION:Police/Fire Community Room
URL;VALUE=URI:https://www.norwood.k12.ma.us/sc/calendar/1812103/school-comm
 ittee-meeting-clone
DTSTART:20190109T233000Z
DTEND:20190110T040000Z
END:VEVENT
END:VCALENDAR
