BEGIN:VCALENDAR
VERSION:2.0
PRODID:SchoolNow
CALSCALE:GREGORIAN
BEGIN:VEVENT
UID:0329a98a-8f53-11e8-8fb3-12179e50f482
DTSTAMP:20190122T173444Z
SUMMARY:School Committee Meeting
LOCATION:Oldham Elementary School
URL;VALUE=URI:https://www.norwood.k12.ma.us/sc/calendar/1812129/school-comm
 ittee-meeting-clone
DTSTART:20190124T000000Z
DTEND:20190124T040000Z
END:VEVENT
END:VCALENDAR
