BEGIN:VCALENDAR
VERSION:2.0
PRODID:SchoolNow
CALSCALE:GREGORIAN
BEGIN:VEVENT
UID:68368bd6-8f53-11e8-83e1-0af02cd4a3da
DTSTAMP:20190206T191028Z
SUMMARY:School Committee Meeting
LOCATION:Savage Educational Center
URL;VALUE=URI:https://www.norwood.k12.ma.us/sc/calendar/1812155/school-comm
 ittee-meeting-clone
DTSTART:20190207T000000Z
DTEND:20190207T040000Z
END:VEVENT
END:VCALENDAR
