BEGIN:VCALENDAR
VERSION:2.0
PRODID:SchoolNow
CALSCALE:GREGORIAN
BEGIN:VEVENT
UID:b698606a-8f53-11e8-9307-0a34b7958ab2
DTSTAMP:20190226T133512Z
SUMMARY:School Committee Meeting
LOCATION:Savage Educational Center
URL;VALUE=URI:https://www.norwood.k12.ma.us/sc/calendar/1812181/school-comm
 ittee-meeting-clone
DTSTART:20190228T000000Z
DTEND:20190228T040000Z
END:VEVENT
END:VCALENDAR
