BEGIN:VCALENDAR
VERSION:2.0
PRODID:SchoolNow
CALSCALE:GREGORIAN
BEGIN:VEVENT
UID:05ae6df2-8f54-11e8-8634-0a34b7958ab2
DTSTAMP:20190308T150755Z
SUMMARY:School Committee Meeting
LOCATION:Savage Educational Center
URL;VALUE=URI:https://www.norwood.k12.ma.us/sc/calendar/1812207/school-comm
 ittee-meeting-clone
DTSTART:20190313T230000Z
DTEND:20190314T030000Z
END:VEVENT
END:VCALENDAR
