BEGIN:VCALENDAR
VERSION:2.0
PRODID:SchoolNow
CALSCALE:GREGORIAN
BEGIN:VEVENT
UID:4da9a482-8f54-11e8-9929-0a34b7958ab2
DTSTAMP:20190314T123111Z
SUMMARY:School Committee Meeting - CANCELLED
LOCATION:Prescott Elementary School
URL;VALUE=URI:https://www.norwood.k12.ma.us/sc/calendar/1812233/school-comm
 ittee-meeting-clone
DTSTART:20190327T230000Z
DTEND:20190328T030000Z
END:VEVENT
END:VCALENDAR
