BEGIN:VCALENDAR
VERSION:2.0
PRODID:SchoolNow
CALSCALE:GREGORIAN
BEGIN:VEVENT
UID:a60a91b8-8f54-11e8-8903-0a34b7958ab2
DTSTAMP:20190405T153546Z
SUMMARY:School Committee Meeting
LOCATION:Savage Educational Center
URL;VALUE=URI:https://www.norwood.k12.ma.us/sc/calendar/1812259/school-comm
 ittee-meeting-clone
DTSTART:20190410T230000Z
DTEND:20190411T030000Z
END:VEVENT
END:VCALENDAR
