BEGIN:VCALENDAR
VERSION:2.0
PRODID:SchoolNow
CALSCALE:GREGORIAN
BEGIN:VEVENT
UID:fcd11b84-8f54-11e8-8962-0a34b7958ab2
DTSTAMP:20190423T153556Z
SUMMARY:School Committee Meeting - FY 20 Public Budget Hearing
LOCATION:Norwood High School Auditorium
URL;VALUE=URI:https://www.norwood.k12.ma.us/sc/calendar/1812285/school-comm
 ittee-meeting-clone
DTSTART:20190424T223000Z
DTEND:20190425T030000Z
END:VEVENT
END:VCALENDAR
