BEGIN:VCALENDAR
VERSION:2.0
PRODID:SchoolNow
CALSCALE:GREGORIAN
BEGIN:VEVENT
UID:49228c02-8f55-11e8-9659-0a34b7958ab2
DTSTAMP:20190503T190640Z
SUMMARY:School Committee Meeting
LOCATION:Savage Educational Center
URL;VALUE=URI:https://www.norwood.k12.ma.us/sc/calendar/1812311/school-comm
 ittee-meeting-clone
DTSTART:20190508T230000Z
DTEND:20190509T030000Z
END:VEVENT
END:VCALENDAR
