BEGIN:VCALENDAR
VERSION:2.0
PRODID:SchoolNow
CALSCALE:GREGORIAN
BEGIN:VEVENT
UID:8edb855a-8f55-11e8-8fe6-0a34b7958ab2
DTSTAMP:20190520T135449Z
SUMMARY:School Committee Meeting
LOCATION:Prescott Elementary School
URL;VALUE=URI:https://www.norwood.k12.ma.us/sc/calendar/1812337/school-comm
 ittee-meeting-clone
DTSTART:20190522T230000Z
DTEND:20190523T030000Z
END:VEVENT
END:VCALENDAR
