BEGIN:VCALENDAR
VERSION:2.0
PRODID:SchoolNow
CALSCALE:GREGORIAN
BEGIN:VEVENT
UID:df947e02-8f55-11e8-ad0a-0a34b7958ab2
DTSTAMP:20190603T183547Z
SUMMARY:School Committee Meeting
LOCATION:Savage Educational Center
URL;VALUE=URI:https://www.norwood.k12.ma.us/sc/calendar/1812363/school-comm
 ittee-meeting-clone
DTSTART:20190605T230000Z
DTEND:20190606T030000Z
END:VEVENT
END:VCALENDAR
