BEGIN:VCALENDAR
VERSION:2.0
PRODID:SchoolNow
CALSCALE:GREGORIAN
BEGIN:VEVENT
UID:224d1b64-8f56-11e8-b388-0a34b7958ab2
DTSTAMP:20180724T152754Z
SUMMARY:School Committee Meeting
LOCATION:Savage Educational Center
URL;VALUE=URI:https://www.norwood.k12.ma.us/sc/calendar/1812389/school-comm
 ittee-meeting-clone
DTSTART:20190619T230000Z
DTEND:20190620T030000Z
END:VEVENT
END:VCALENDAR
