BEGIN:VCALENDAR
VERSION:2.0
PRODID:SchoolNow
CALSCALE:GREGORIAN
BEGIN:VEVENT
UID:09ff63ac-9021-11e8-92bc-0ae3ac950504
DTSTAMP:20180803T133119Z
SUMMARY:School Committee Meeting
LOCATION:Savage Educational Center
URL;VALUE=URI:https://www.norwood.k12.ma.us/sc/calendar/1813089/school-comm
 ittee-meeting-clone-clone-clone
DTSTART:20180808T223000Z
DTEND:20180809T030000Z
END:VEVENT
END:VCALENDAR
