BEGIN:VCALENDAR
VERSION:2.0
PRODID:SchoolNow
CALSCALE:GREGORIAN
BEGIN:VEVENT
UID:2d56249a-94c1-11e8-8a77-0a10ed5da39a
DTSTAMP:20180731T125644Z
SUMMARY:School Committee Budget Subcommittee Meeting
LOCATION:Superintendent's Conference Room - JR Savage Center - 275 Prospect
  St. Norwood\, MA
URL;VALUE=URI:https://www.norwood.k12.ma.us/sc/calendar/1816656/school-comm
 ittee-budget-subcommittee-meeting-clone
DTSTART:20180806T193000Z
DTEND:20180806T203000Z
END:VEVENT
END:VCALENDAR
