BEGIN:VCALENDAR
VERSION:2.0
PRODID:SchoolNow
CALSCALE:GREGORIAN
BEGIN:VEVENT
UID:a18d4286-9fc9-11e8-8c41-0a4487fc5d8e
DTSTAMP:20180814T135458Z
SUMMARY:School Committee Budget Subcommittee Meeting
LOCATION:Superintendent's Conference Room - JR Savage Center - 275 Prospect
  St. Norwood\, MA
URL;VALUE=URI:https://www.norwood.k12.ma.us/sc/calendar/1831167/school-comm
 ittee-budget-subcommittee-meeting-clone-clone
DTSTART:20180820T143000Z
DTEND:20180820T153000Z
END:VEVENT
END:VCALENDAR
