BEGIN:VCALENDAR
VERSION:2.0
PRODID:SchoolNow
CALSCALE:GREGORIAN
BEGIN:VEVENT
UID:d3eb06d4-bffc-11e8-b393-0a21229db474
DTSTAMP:20181126T193008Z
SUMMARY:School Committee Meeting
LOCATION:Savage Educational Center
URL;VALUE=URI:https://www.norwood.k12.ma.us/sc/calendar/1874614/school-comm
 ittee-retreat
DTSTART:20181129T000000Z
DTEND:20181129T030000Z
END:VEVENT
END:VCALENDAR
