BEGIN:VCALENDAR
VERSION:2.0
PRODID:SchoolNow
CALSCALE:GREGORIAN
BEGIN:VEVENT
UID:f7981dce-bffc-11e8-8b5e-0a21229db474
DTSTAMP:20190211T150152Z
SUMMARY:School Committee Meeting
LOCATION:Savage Educational Center
URL;VALUE=URI:https://www.norwood.k12.ma.us/sc/calendar/1874617/school-comm
 ittee-meeting
DTSTART:20190214T000000Z
DTEND:20190214T030000Z
END:VEVENT
END:VCALENDAR
