BEGIN:VCALENDAR
VERSION:2.0
PRODID:SchoolNow
CALSCALE:GREGORIAN
BEGIN:VEVENT
UID:d0274f7a-e8f2-11e8-ad49-0a583a35a5f2
DTSTAMP:20181115T162340Z
SUMMARY:School Committee Budget Subcommittee Meeting
LOCATION:Savage Educational Center - Superintendent's Conference Room
URL;VALUE=URI:https://www.norwood.k12.ma.us/sc/calendar/1906421/school-comm
 ittee-budget-subcommittee-meeting
DTSTART:20181120T213000Z
DTEND:20181120T223000Z
END:VEVENT
END:VCALENDAR
