BEGIN:VCALENDAR
VERSION:2.0
PRODID:SchoolNow
CALSCALE:GREGORIAN
BEGIN:VEVENT
UID:4638d032-0a02-11e9-8a95-12f95778aace
DTSTAMP:20190111T203636Z
SUMMARY:School Committee Meeting
LOCATION:Savage Educational Center
URL;VALUE=URI:https://www.norwood.k12.ma.us/sc/calendar/1922981/school-comm
 ittee-meeting-clone-clone
DTSTART:20190117T000000Z
DTEND:20190117T030000Z
END:VEVENT
END:VCALENDAR
