BEGIN:VCALENDAR
VERSION:2.0
PRODID:SchoolNow
CALSCALE:GREGORIAN
BEGIN:VEVENT
UID:cf3a6d7c-18d6-11e9-b2a9-0a10c839c62a
DTSTAMP:20190115T150409Z
SUMMARY:School Committee Budget Subcommittee Meeting
LOCATION:Savage Educational Center - Superintendent Conference Room
URL;VALUE=URI:https://www.norwood.k12.ma.us/sc/calendar/1931544/school-comm
 ittee-budget-subcommittee-meeting
DTSTART:20190118T210000Z
DTEND:20190118T220000Z
END:VEVENT
END:VCALENDAR
