BEGIN:VCALENDAR
VERSION:2.0
PRODID:SchoolNow
CALSCALE:GREGORIAN
BEGIN:VEVENT
UID:dcdb1630-2596-11e9-a47a-12b011727c0e
DTSTAMP:20190131T202909Z
SUMMARY:School Committee Budget Subcommittee Meeting
LOCATION:Superintendent's Conference Room\, Savage Educational Center
URL;VALUE=URI:https://www.norwood.k12.ma.us/sc/calendar/1938684/school-comm
 ittee-budget-subcommittee-meeting
DTSTART:20190205T000000Z
DTEND:20190205T012800Z
END:VEVENT
END:VCALENDAR
