BEGIN:VCALENDAR
VERSION:2.0
PRODID:SchoolNow
CALSCALE:GREGORIAN
BEGIN:VEVENT
UID:dd7243c8-3515-11e9-a0ae-0a9ca2beea54
DTSTAMP:20190220T134634Z
SUMMARY:School Committee Budget Subcommittee Meeting
LOCATION:Savage Educational Center Room 219
URL;VALUE=URI:https://www.norwood.k12.ma.us/sc/calendar/1946722/school-comm
 ittee-budget-subcommittee-meeting
DTSTART:20190222T160000Z
DTEND:20190222T170000Z
END:VEVENT
END:VCALENDAR
