BEGIN:VCALENDAR
VERSION:2.0
PRODID:SchoolNow
CALSCALE:GREGORIAN
BEGIN:VEVENT
UID:8d2d5eb0-4015-11e9-a74e-1249b8d01e0c
DTSTAMP:20190306T134131Z
SUMMARY:School Committee Budget Subcommittee Meeting
LOCATION:Savage Educational Center\, Superintendent's Conference Room
URL;VALUE=URI:https://www.norwood.k12.ma.us/sc/calendar/1951993/school-comm
 ittee-budget-subcommittee-meeting
DTSTART:20190311T203000Z
DTEND:20190311T213000Z
END:VEVENT
END:VCALENDAR
