BEGIN:VCALENDAR
VERSION:2.0
PRODID:SchoolNow
CALSCALE:GREGORIAN
BEGIN:VEVENT
UID:477f109e-4c99-11e9-8a0f-0acdd96294ae
DTSTAMP:20190322T163145Z
SUMMARY:School Committee Meeting - Joint Meeting with Finance Commission an
 d Board of Selectmen
LOCATION:Police and Fire Community Room
URL;VALUE=URI:https://www.norwood.k12.ma.us/sc/calendar/1959111/school-comm
 ittee-meeting-joint-meeting-with-finance-commission-and-board-of-selectmen
DTSTART:20190406T130000Z
DTEND:20190406T150000Z
END:VEVENT
END:VCALENDAR
