BEGIN:VCALENDAR
VERSION:2.0
PRODID:SchoolNow
CALSCALE:GREGORIAN
BEGIN:VEVENT
UID:c1deccc2-5d55-11e9-bf70-0a7f34388b94
DTSTAMP:20190425T151007Z
SUMMARY:CANCELLED-School Committee Meeting
LOCATION:Norwood High School Library
URL;VALUE=URI:https://www.norwood.k12.ma.us/sc/calendar/1967921/school-comm
 ittee-meeting
DTSTART:20190425T230000Z
DTEND:20190426T000000Z
END:VEVENT
END:VCALENDAR
