BEGIN:VCALENDAR
VERSION:2.0
PRODID:SchoolNow
CALSCALE:GREGORIAN
BEGIN:VEVENT
UID:6a3bd5e0-7d77-11e9-9b3a-12121fc294f6
DTSTAMP:20190523T162544Z
SUMMARY:School Committee Meeting
LOCATION:Savage Educational Center
URL;VALUE=URI:https://www.norwood.k12.ma.us/sc/calendar/1990220/school-comm
 ittee-meeting
DTSTART:20190807T230000Z
DTEND:20190808T010000Z
END:VEVENT
END:VCALENDAR
