BEGIN:VCALENDAR
VERSION:2.0
PRODID:SchoolNow
CALSCALE:GREGORIAN
BEGIN:VEVENT
UID:b78fdc92-a243-11e9-8349-0a6b3545c7dc
DTSTAMP:20190709T121853Z
SUMMARY:School Committee Meeting
LOCATION:Savage Educational Center
URL;VALUE=URI:https://www.norwood.k12.ma.us/sc/calendar/2027085/school-comm
 ittee-meeting
DTSTART:20190925T230000Z
DTEND:20190926T020000Z
END:VEVENT
END:VCALENDAR
