BEGIN:VCALENDAR
VERSION:2.0
PRODID:SchoolNow
CALSCALE:GREGORIAN
BEGIN:VEVENT
UID:cd77194e-a243-11e9-9f17-0a6b3545c7dc
DTSTAMP:20190927T133414Z
SUMMARY:School Committee Meeting - at Coakley Middle School
LOCATION:Coakley Middle School
URL;VALUE=URI:https://www.norwood.k12.ma.us/sc/calendar/2027087/school-comm
 ittee-meeting
DTSTART:20191009T230000Z
DTEND:20191010T020000Z
END:VEVENT
END:VCALENDAR
