BEGIN:VCALENDAR
VERSION:2.0
PRODID:SchoolNow
CALSCALE:GREGORIAN
BEGIN:VEVENT
UID:e69dc8d2-a243-11e9-ad9a-0a6b3545c7dc
DTSTAMP:20190709T122012Z
SUMMARY:School Committee Meeting
LOCATION:Savage Educational Center
URL;VALUE=URI:https://www.norwood.k12.ma.us/sc/calendar/2027089/school-comm
 ittee-meeting
DTSTART:20191023T230000Z
DTEND:20191024T020000Z
END:VEVENT
END:VCALENDAR
