BEGIN:VCALENDAR
VERSION:2.0
PRODID:SchoolNow
CALSCALE:GREGORIAN
BEGIN:VEVENT
UID:fcc83aca-a243-11e9-8b46-0a6b3545c7dc
DTSTAMP:20190927T133523Z
SUMMARY:School Committee Meeting - CANCELLED AND RESCHEDULED
LOCATION:Savage Educational Center
URL;VALUE=URI:https://www.norwood.k12.ma.us/sc/calendar/2027091/school-comm
 ittee-meeting
DTSTART:20191114T000000Z
DTEND:20191114T030000Z
END:VEVENT
END:VCALENDAR
