BEGIN:VCALENDAR
VERSION:2.0
PRODID:SchoolNow
CALSCALE:GREGORIAN
BEGIN:VEVENT
UID:0fe5052a-a244-11e9-a783-0a6b3545c7dc
DTSTAMP:20190709T122121Z
SUMMARY:School Committee Meeting
LOCATION:Savage Educational Center
URL;VALUE=URI:https://www.norwood.k12.ma.us/sc/calendar/2027092/school-comm
 ittee-meeting
DTSTART:20191205T000000Z
DTEND:20191205T030000Z
END:VEVENT
END:VCALENDAR
