BEGIN:VCALENDAR
VERSION:2.0
PRODID:SchoolNow
CALSCALE:GREGORIAN
BEGIN:VEVENT
UID:2e24b67a-a244-11e9-8458-0a6b3545c7dc
DTSTAMP:20191205T142205Z
SUMMARY:CANCELLED School Committee Meeting
LOCATION:Savage Educational Center
URL;VALUE=URI:https://www.norwood.k12.ma.us/sc/calendar/2027095/school-comm
 ittee-meeting
DTSTART:20191217T000000Z
DTEND:20191217T030000Z
END:VEVENT
END:VCALENDAR
