BEGIN:VCALENDAR
VERSION:2.0
PRODID:SchoolNow
CALSCALE:GREGORIAN
BEGIN:VEVENT
UID:455c70da-a244-11e9-9eb2-0a6b3545c7dc
DTSTAMP:20190927T133701Z
SUMMARY:School Committe Meeting - at Balch Elementary School
LOCATION:Balch Elementary School
URL;VALUE=URI:https://www.norwood.k12.ma.us/sc/calendar/2027097/school-comm
 itte-meeting
DTSTART:20200109T000000Z
DTEND:20200109T030000Z
END:VEVENT
END:VCALENDAR
